BEGIN:VCALENDAR
VERSION:2.0
PRODID:-//Fort Collins Stars - ECPv6.3.3.1//NONSGML v1.0//EN
CALSCALE:GREGORIAN
METHOD:PUBLISH
X-WR-CALNAME:Fort Collins Stars
X-ORIGINAL-URL:http://www.fcstars.org
X-WR-CALDESC:Events for Fort Collins Stars
REFRESH-INTERVAL;VALUE=DURATION:PT1H
X-Robots-Tag:noindex
X-PUBLISHED-TTL:PT1H
BEGIN:VTIMEZONE
TZID:America/Denver
BEGIN:DAYLIGHT
TZOFFSETFROM:-0700
TZOFFSETTO:-0600
TZNAME:MDT
DTSTART:20170312T090000
END:DAYLIGHT
BEGIN:STANDARD
TZOFFSETFROM:-0600
TZOFFSETTO:-0700
TZNAME:MST
DTSTART:20171105T080000
END:STANDARD
BEGIN:DAYLIGHT
TZOFFSETFROM:-0700
TZOFFSETTO:-0600
TZNAME:MDT
DTSTART:20180311T090000
END:DAYLIGHT
BEGIN:STANDARD
TZOFFSETFROM:-0600
TZOFFSETTO:-0700
TZNAME:MST
DTSTART:20181104T080000
END:STANDARD
END:VTIMEZONE
BEGIN:VEVENT
DTSTART;TZID=America/Denver:20180507T173000
DTEND;TZID=America/Denver:20180507T190000
DTSTAMP:20260419T155053
CREATED:20180314T200122Z
LAST-MODIFIED:20180314T200122Z
UID:828-1525714200-1525719600@www.fcstars.org
SUMMARY:10U Somday @ Cougars
DESCRIPTION:
URL:http://www.fcstars.org/event/10u-somday-cougars/
LOCATION:windsor HS
CATEGORIES:10U Somday
END:VEVENT
BEGIN:VEVENT
DTSTART;TZID=America/Denver:20180506T153000
DTEND;TZID=America/Denver:20180506T170000
DTSTAMP:20260419T155053
CREATED:20180314T235246Z
LAST-MODIFIED:20180314T235246Z
UID:880-1525620600-1525626000@www.fcstars.org
SUMMARY:12u Berens vs Xtreme - Barker
DESCRIPTION:
URL:http://www.fcstars.org/event/12u-berens-vs-xtreme-barker/
LOCATION:TBD\, United States
CATEGORIES:12U Berens
GEO:37.09024;-95.712891
END:VEVENT
BEGIN:VEVENT
DTSTART;TZID=America/Denver:20180506T140000
DTEND;TZID=America/Denver:20180506T153000
DTSTAMP:20260419T155053
CREATED:20180314T235209Z
LAST-MODIFIED:20180314T235209Z
UID:878-1525615200-1525620600@www.fcstars.org
SUMMARY:12U Berens vs Xtreme - Hardy
DESCRIPTION:
URL:http://www.fcstars.org/event/12u-berens-vs-xtreme-hardy/
LOCATION:TBD\, United States
CATEGORIES:12U Berens
GEO:37.09024;-95.712891
END:VEVENT
BEGIN:VEVENT
DTSTART;VALUE=DATE:20180505
DTEND;VALUE=DATE:20180507
DTSTAMP:20260419T155053
CREATED:20180315T000350Z
LAST-MODIFIED:20180315T000350Z
UID:915-1525478400-1525651199@www.fcstars.org
SUMMARY:Diamond Girls FP Tournament
DESCRIPTION:
URL:http://www.fcstars.org/event/diamond-girls-fp-tournament/
LOCATION:Arvada\, United States
CATEGORIES:16U Bode
GEO:37.09024;-95.712891
END:VEVENT
BEGIN:VEVENT
DTSTART;VALUE=DATE:20180505
DTEND;VALUE=DATE:20180507
DTSTAMP:20260419T155053
CREATED:20180314T195544Z
LAST-MODIFIED:20180314T195544Z
UID:817-1525478400-1525651199@www.fcstars.org
SUMMARY:12U Abrames - scrimmages
DESCRIPTION:
URL:http://www.fcstars.org/event/12u-abrames-scrimmages/
LOCATION:Denver area\, Denver\, CO\, United States
CATEGORIES:12U Abrames
GEO:39.7392358;-104.990251
END:VEVENT
BEGIN:VEVENT
DTSTART;TZID=America/Denver:20180502T173000
DTEND;TZID=America/Denver:20180502T190000
DTSTAMP:20260419T155053
CREATED:20180314T235124Z
LAST-MODIFIED:20180314T235124Z
UID:876-1525282200-1525287600@www.fcstars.org
SUMMARY:12u Berens @ Inferno
DESCRIPTION:
URL:http://www.fcstars.org/event/12u-berens-inferno/
LOCATION:windsor HS
CATEGORIES:12U Berens
END:VEVENT
BEGIN:VEVENT
DTSTART;TZID=America/Denver:20180502T170000
DTEND;TZID=America/Denver:20180502T183000
DTSTAMP:20260419T155053
CREATED:20180314T200050Z
LAST-MODIFIED:20180314T200050Z
UID:826-1525280400-1525285800@www.fcstars.org
SUMMARY:10U Somday vs Rush
DESCRIPTION:
URL:http://www.fcstars.org/event/10u-somday-vs-rush/
LOCATION:Beattie West\, United States
CATEGORIES:10U Somday
GEO:37.09024;-95.712891
END:VEVENT
BEGIN:VEVENT
DTSTART;TZID=America/Denver:20180430T180000
DTEND;TZID=America/Denver:20180430T193000
DTSTAMP:20260419T155053
CREATED:20180403T154622Z
LAST-MODIFIED:20180403T154622Z
UID:1209-1525111200-1525116600@www.fcstars.org
SUMMARY:FC Stars 14U Linder vs Extreme
DESCRIPTION:
URL:http://www.fcstars.org/event/fc-stars-14u-linder-vs-extreme/
LOCATION:Beattie West\, United States
CATEGORIES:14U Linder
GEO:37.09024;-95.712891
END:VEVENT
BEGIN:VEVENT
DTSTART;TZID=America/Denver:20180427T173000
DTEND;TZID=America/Denver:20180427T190000
DTSTAMP:20260419T155053
CREATED:20180314T200020Z
LAST-MODIFIED:20180314T200020Z
UID:823-1524850200-1524855600@www.fcstars.org
SUMMARY:10U Somday @ Bandits
DESCRIPTION:
URL:http://www.fcstars.org/event/10u-somday-bandits/
LOCATION:windsor HS
CATEGORIES:10U Somday
END:VEVENT
BEGIN:VEVENT
DTSTART;TZID=America/Denver:20180425T170000
DTEND;TZID=America/Denver:20180425T183000
DTSTAMP:20260419T155053
CREATED:20180314T195945Z
LAST-MODIFIED:20180314T195945Z
UID:821-1524675600-1524681000@www.fcstars.org
SUMMARY:10U Somday vs Explosion
DESCRIPTION:
URL:http://www.fcstars.org/event/10u-somday-vs-explosion/
LOCATION:Beattie West\, United States
CATEGORIES:10U Somday
GEO:37.09024;-95.712891
END:VEVENT
BEGIN:VEVENT
DTSTART;TZID=America/Denver:20180423T180000
DTEND;TZID=America/Denver:20180423T200000
DTSTAMP:20260419T155053
CREATED:20180315T002534Z
LAST-MODIFIED:20180315T002534Z
UID:946-1524506400-1524513600@www.fcstars.org
SUMMARY:Practice - 16U Bode
DESCRIPTION:
URL:http://www.fcstars.org/event/practice-16u-bode/2018-04-23/
CATEGORIES:16U Bode
END:VEVENT
BEGIN:VEVENT
DTSTART;VALUE=DATE:20180421
DTEND;VALUE=DATE:20180423
DTSTAMP:20260419T155053
CREATED:20180402T034823Z
LAST-MODIFIED:20180402T034847Z
UID:1089-1524268800-1524441599@www.fcstars.org
SUMMARY:Blaze Invitational Tournament
DESCRIPTION:
URL:http://www.fcstars.org/event/blaze-invitational-tournament-2/
LOCATION:Berthoud
CATEGORIES:12U Berens
END:VEVENT
BEGIN:VEVENT
DTSTART;VALUE=DATE:20180421
DTEND;VALUE=DATE:20180423
DTSTAMP:20260419T155053
CREATED:20180315T000318Z
LAST-MODIFIED:20180315T000318Z
UID:913-1524268800-1524441599@www.fcstars.org
SUMMARY:Blaze Invitational Tournament
DESCRIPTION:
URL:http://www.fcstars.org/event/blaze-invitational-tournament/
LOCATION:Barnes Complex
CATEGORIES:16U Bode
END:VEVENT
BEGIN:VEVENT
DTSTART;TZID=America/Denver:20180418T194500
DTEND;TZID=America/Denver:20180418T211500
DTSTAMP:20260419T155053
CREATED:20180403T154548Z
LAST-MODIFIED:20180403T154548Z
UID:1206-1524080700-1524086100@www.fcstars.org
SUMMARY:Stars 14U Linder @ Chey Extreme
DESCRIPTION:
URL:http://www.fcstars.org/event/stars-14u-linder-chey-extreme/
LOCATION:cheyene
CATEGORIES:14U Linder
END:VEVENT
BEGIN:VEVENT
DTSTART;TZID=America/Denver:20180418T170000
DTEND;TZID=America/Denver:20180418T183000
DTSTAMP:20260419T155053
CREATED:20180314T195912Z
LAST-MODIFIED:20180314T195912Z
UID:819-1524070800-1524076200@www.fcstars.org
SUMMARY:10U Somday vs Inferno
DESCRIPTION:
URL:http://www.fcstars.org/event/10u-somday-vs-inferno/
LOCATION:Beattie West\, United States
CATEGORIES:10U Somday
GEO:37.09024;-95.712891
END:VEVENT
BEGIN:VEVENT
DTSTART;TZID=America/Denver:20180416T173000
DTEND;TZID=America/Denver:20180416T190000
DTSTAMP:20260419T155053
CREATED:20180403T154504Z
LAST-MODIFIED:20180403T154504Z
UID:1204-1523899800-1523905200@www.fcstars.org
SUMMARY:Stars 14U Linder vs Elite X White
DESCRIPTION:
URL:http://www.fcstars.org/event/stars-14u-linder-vs-elite-x-white/
LOCATION:Beattie West\, United States
CATEGORIES:14U Linder
GEO:37.09024;-95.712891
END:VEVENT
BEGIN:VEVENT
DTSTART;TZID=America/Denver:20180414T083000
DTEND;TZID=America/Denver:20180414T113000
DTSTAMP:20260419T155053
CREATED:20180403T154424Z
LAST-MODIFIED:20180403T154424Z
UID:1202-1523694600-1523705400@www.fcstars.org
SUMMARY:Stars 14U Linder @Fever - DH
DESCRIPTION:
URL:http://www.fcstars.org/event/stars-14u-linder-fever-dh/
CATEGORIES:14U Linder
END:VEVENT
BEGIN:VEVENT
DTSTART;VALUE=DATE:20180414
DTEND;VALUE=DATE:20180416
DTSTAMP:20260419T155053
CREATED:20180315T000248Z
LAST-MODIFIED:20180315T000248Z
UID:911-1523664000-1523836799@www.fcstars.org
SUMMARY:Spring Fest Tournament
DESCRIPTION:
URL:http://www.fcstars.org/event/spring-fest-tournament/
LOCATION:Stazio – Boulder\, 2445 Stazio Dr.\, Boulder\, CO\, 80301\, United States
CATEGORIES:16U Bode
GEO:40.023227;-105.212716
X-APPLE-STRUCTURED-LOCATION;VALUE=URI;X-ADDRESS=Stazio – Boulder 2445 Stazio Dr. Boulder CO 80301 United States;X-APPLE-RADIUS=500;X-TITLE=2445 Stazio Dr.:geo:-105.212716,40.023227
END:VEVENT
BEGIN:VEVENT
DTSTART;VALUE=DATE:20180414
DTEND;VALUE=DATE:20180416
DTSTAMP:20260419T155053
CREATED:20180314T195518Z
LAST-MODIFIED:20180314T195518Z
UID:815-1523664000-1523836799@www.fcstars.org
SUMMARY:12U Abrames - scrimmage
DESCRIPTION:
URL:http://www.fcstars.org/event/12u-abrames-scrimmage/
LOCATION:Denver area\, Denver\, CO\, United States
CATEGORIES:12U Abrames
GEO:39.7392358;-104.990251
END:VEVENT
BEGIN:VEVENT
DTSTART;TZID=America/Denver:20180409T183000
DTEND;TZID=America/Denver:20180409T200000
DTSTAMP:20260419T155053
CREATED:20180315T002428Z
LAST-MODIFIED:20180315T002428Z
UID:942-1523298600-1523304000@www.fcstars.org
SUMMARY:Practice
DESCRIPTION:
URL:http://www.fcstars.org/event/practice-2/2018-04-09/
LOCATION:Landings Park\, Fort Collins
CATEGORIES:16U Bode
GEO:40.5852602;-105.084423
END:VEVENT
BEGIN:VEVENT
DTSTART;VALUE=DATE:20180407
DTEND;VALUE=DATE:20180409
DTSTAMP:20260419T155053
CREATED:20180315T000212Z
LAST-MODIFIED:20180315T000212Z
UID:909-1523059200-1523231999@www.fcstars.org
SUMMARY:George Callan Memorial Tournament
DESCRIPTION:
URL:http://www.fcstars.org/event/george-callan-memorial-tournament-2/
LOCATION:Barnes Complex
CATEGORIES:16U Bode
END:VEVENT
BEGIN:VEVENT
DTSTART;TZID=America/Denver:20180403T180000
DTEND;TZID=America/Denver:20180403T193000
DTSTAMP:20260419T155053
CREATED:20180403T154816Z
LAST-MODIFIED:20180403T154816Z
UID:1215-1522778400-1522783800@www.fcstars.org
SUMMARY:Stars 14U Linder vs Brush
DESCRIPTION:
URL:http://www.fcstars.org/event/stars-14u-linder-vs-brush/
LOCATION:Stewart Case Park
CATEGORIES:14U Linder
END:VEVENT
BEGIN:VEVENT
DTSTART;VALUE=DATE:20180324
DTEND;VALUE=DATE:20180326
DTSTAMP:20260419T155053
CREATED:20180315T000131Z
LAST-MODIFIED:20180315T000131Z
UID:906-1521849600-1522022399@www.fcstars.org
SUMMARY:Chinook Tournament
DESCRIPTION:
URL:http://www.fcstars.org/event/chinook-tournament/
LOCATION:Youth Memorial Sports Complex
CATEGORIES:16U Bode
END:VEVENT
BEGIN:VEVENT
DTSTART;TZID=America/Denver:20180319T170000
DTEND;TZID=America/Denver:20180319T183000
DTSTAMP:20260419T155053
CREATED:20180315T002152Z
LAST-MODIFIED:20180402T211259Z
UID:929-1521478800-1521484200@www.fcstars.org
SUMMARY:Practice
DESCRIPTION:Practice for Team 16U Bode.
URL:http://www.fcstars.org/event/practice/2018-03-19/
LOCATION:Warren Park\, Fort Collins
CATEGORIES:16U Bode
GEO:40.5852602;-105.084423
END:VEVENT
BEGIN:VEVENT
DTSTART;TZID=America/Denver:20170720T170000
DTEND;TZID=America/Denver:20170720T190000
DTSTAMP:20260419T155053
CREATED:20170716T051702Z
LAST-MODIFIED:20170716T051702Z
UID:647-1500570000-1500577200@www.fcstars.org
SUMMARY:FC Stars - Supplemental Tryouts
DESCRIPTION:5:00 PM – 6:30 PM – Harmony Park (behind Preston) – Registration will start at 4:30 pm. \n12U\, 14U & 16U.  \n18U – please contact me through the website for add’l info!  \nCome play with the best and oldest fastpitch organization in Northern Colorado!
URL:http://www.fcstars.org/event/fc-stars-supplemental-tryouts/
LOCATION:Harmony Park
CATEGORIES:All Teams
END:VEVENT
BEGIN:VEVENT
DTSTART;TZID=America/Denver:20170713T170000
DTEND;TZID=America/Denver:20170713T200000
DTSTAMP:20260419T155053
CREATED:20170624T034954Z
LAST-MODIFIED:20170624T035113Z
UID:639-1499965200-1499976000@www.fcstars.org
SUMMARY:FC Stars TRYOUTS!
DESCRIPTION:We will hold tryouts for our 2017-2018 competitive fastpitch teams on THURSDAY\, July 13th at Harmony Park (near Preston Middle School).   \n10U & 12U – 5:00 PM – 6:30 PM  \n14U\, 16U & 18U – 6:30 PM – 8:00 PM \nPlease bring all your gear\, including your helmet – expect to run\, hit\, throw\, slide – everything!
URL:http://www.fcstars.org/event/fc-stars-tryouts/
LOCATION:Harmony Park
CATEGORIES:All Teams
END:VEVENT
BEGIN:VEVENT
DTSTART;VALUE=DATE:20170707
DTEND;VALUE=DATE:20170710
DTSTAMP:20260419T155053
CREATED:20170222T231857Z
LAST-MODIFIED:20170222T231857Z
UID:228-1499385600-1499644799@www.fcstars.org
SUMMARY:16U Bode - Mtn States Championship - 16B
DESCRIPTION:Mtn States Championship – 16B at Barnes Softball Complex
URL:http://www.fcstars.org/event/16u-bode-mtn-states-championship-16b/
LOCATION:Barnes Softball Complex\, 405 S Cleveland Ave.\, Loveland\, CO\, 80537\, United States
CATEGORIES:16U Bode
GEO:40.3890337;-105.0746158
X-APPLE-STRUCTURED-LOCATION;VALUE=URI;X-ADDRESS=Barnes Softball Complex 405 S Cleveland Ave. Loveland CO 80537 United States;X-APPLE-RADIUS=500;X-TITLE=405 S Cleveland Ave.:geo:-105.0746158,40.3890337
END:VEVENT
BEGIN:VEVENT
DTSTART;TZID=America/Denver:20170706T170000
DTEND;TZID=America/Denver:20170706T183000
DTSTAMP:20260419T155053
CREATED:20170418T152426Z
LAST-MODIFIED:20170418T152426Z
UID:519-1499360400-1499365800@www.fcstars.org
SUMMARY:16U Bode - practice
DESCRIPTION:practice
URL:http://www.fcstars.org/event/16u-bode-practice-18/
LOCATION:English Ranch Park\, United States
CATEGORIES:16U Bode
GEO:37.09024;-95.712891
END:VEVENT
BEGIN:VEVENT
DTSTART;VALUE=DATE:20170626
DTEND;VALUE=DATE:20170703
DTSTAMP:20260419T155053
CREATED:20170222T231638Z
LAST-MODIFIED:20170222T231638Z
UID:225-1498435200-1499039999@www.fcstars.org
SUMMARY:16U Bode - Triple Crown Sparkler - 16U
DESCRIPTION:Triple Crown Sparkler – 16U in the Denver area
URL:http://www.fcstars.org/event/16u-bode-triple-crown-sparkler-16u/
LOCATION:Denver area\, Denver\, CO\, United States
CATEGORIES:16U Bode
GEO:39.7392358;-104.990251
END:VEVENT
BEGIN:VEVENT
DTSTART;VALUE=DATE:20170624
DTEND;VALUE=DATE:20170626
DTSTAMP:20260419T155053
CREATED:20170323T170910Z
LAST-MODIFIED:20170323T170910Z
UID:437-1498262400-1498435199@www.fcstars.org
SUMMARY:14U Linder - Four Game Guarantee Tournament
DESCRIPTION:
URL:http://www.fcstars.org/event/14u-linder-four-game-guarantee-tournament/
CATEGORIES:14U Linder
END:VEVENT
END:VCALENDAR