BEGIN:VCALENDAR
VERSION:2.0
PRODID:-//Fort Collins Stars - ECPv6.3.3.1//NONSGML v1.0//EN
CALSCALE:GREGORIAN
METHOD:PUBLISH
X-WR-CALNAME:Fort Collins Stars
X-ORIGINAL-URL:http://www.fcstars.org
X-WR-CALDESC:Events for Fort Collins Stars
REFRESH-INTERVAL;VALUE=DURATION:PT1H
X-Robots-Tag:noindex
X-PUBLISHED-TTL:PT1H
BEGIN:VTIMEZONE
TZID:America/Denver
BEGIN:DAYLIGHT
TZOFFSETFROM:-0700
TZOFFSETTO:-0600
TZNAME:MDT
DTSTART:20170312T090000
END:DAYLIGHT
BEGIN:STANDARD
TZOFFSETFROM:-0600
TZOFFSETTO:-0700
TZNAME:MST
DTSTART:20171105T080000
END:STANDARD
END:VTIMEZONE
BEGIN:VEVENT
DTSTART;TZID=America/Denver:20170523T170000
DTEND;TZID=America/Denver:20170523T183000
DTSTAMP:20260419T091329
CREATED:20170418T152146Z
LAST-MODIFIED:20170418T152146Z
UID:506-1495558800-1495564200@www.fcstars.org
SUMMARY:16U Bode - practice
DESCRIPTION:practice
URL:http://www.fcstars.org/event/16u-bode-practice-13/
LOCATION:kruse elementary\, United States
CATEGORIES:16U Bode
GEO:37.09024;-95.712891
END:VEVENT
BEGIN:VEVENT
DTSTART;TZID=America/Denver:20170523T180000
DTEND;TZID=America/Denver:20170523T193000
DTSTAMP:20260419T091329
CREATED:20170501T152716Z
LAST-MODIFIED:20170501T152716Z
UID:593-1495562400-1495567800@www.fcstars.org
SUMMARY:Hoeven 12U Stars - league game
DESCRIPTION:Hoeven 12 U Stars vs Diamond Divas
URL:http://www.fcstars.org/event/hoeven-12u-stars-league-game-7/
LOCATION:OP\, United States
GEO:37.09024;-95.712891
END:VEVENT
BEGIN:VEVENT
DTSTART;TZID=America/Denver:20170523T193000
DTEND;TZID=America/Denver:20170523T210000
DTSTAMP:20260419T091329
CREATED:20170501T150452Z
LAST-MODIFIED:20170501T150452Z
UID:557-1495567800-1495573200@www.fcstars.org
SUMMARY:Hoeven 14U Stars - league game
DESCRIPTION:Hoeven 14U Stars vs Linder 14U Stars
URL:http://www.fcstars.org/event/hoeven-14u-stars-league-game-3/
LOCATION:Cottonwood\, 3074 S Overland Trail\, Fort Collins\, CO\, 80526\, United States
CATEGORIES:14U Hoeven
GEO:40.5456179;-105.1314988
X-APPLE-STRUCTURED-LOCATION;VALUE=URI;X-ADDRESS=Cottonwood 3074 S Overland Trail Fort Collins CO 80526 United States;X-APPLE-RADIUS=500;X-TITLE=3074 S Overland Trail:geo:-105.1314988,40.5456179
END:VEVENT
BEGIN:VEVENT
DTSTART;TZID=America/Denver:20170523T193000
DTEND;TZID=America/Denver:20170523T210000
DTSTAMP:20260419T091329
CREATED:20170418T144603Z
LAST-MODIFIED:20170418T144603Z
UID:454-1495567800-1495573200@www.fcstars.org
SUMMARY:14U Linder - league game
DESCRIPTION:FC Stars(Linder) @ FC Stars (Hoeven)
URL:http://www.fcstars.org/event/14u-linder-league-game-5/
LOCATION:Cottonwood\, 3074 S Overland Trail\, Fort Collins\, CO\, 80526\, United States
CATEGORIES:14U Hoeven,14U Linder
GEO:40.5456179;-105.1314988
X-APPLE-STRUCTURED-LOCATION;VALUE=URI;X-ADDRESS=Cottonwood 3074 S Overland Trail Fort Collins CO 80526 United States;X-APPLE-RADIUS=500;X-TITLE=3074 S Overland Trail:geo:-105.1314988,40.5456179
END:VEVENT
BEGIN:VEVENT
DTSTART;TZID=America/Denver:20170524T180000
DTEND;TZID=America/Denver:20170524T193000
DTSTAMP:20260419T091329
CREATED:20170501T152831Z
LAST-MODIFIED:20170501T152831Z
UID:595-1495648800-1495654200@www.fcstars.org
SUMMARY:Hoeven 12U Stars - league game
DESCRIPTION:Hoeven 12U Stars vs BV Pride Black
URL:http://www.fcstars.org/event/hoeven-12u-stars-league-game-8/
LOCATION:Dawson\, United States
GEO:37.09024;-95.712891
END:VEVENT
BEGIN:VEVENT
DTSTART;TZID=America/Denver:20170525T160000
DTEND;TZID=America/Denver:20170525T173000
DTSTAMP:20260419T091329
CREATED:20170418T144930Z
LAST-MODIFIED:20170418T144930Z
UID:457-1495728000-1495733400@www.fcstars.org
SUMMARY:14U Linder - league game
DESCRIPTION:FC Stars @ CO Synergy
URL:http://www.fcstars.org/event/14u-linder-league-game-6/
LOCATION:RTMS\, United States
CATEGORIES:14U Linder
GEO:37.09024;-95.712891
END:VEVENT
BEGIN:VEVENT
DTSTART;TZID=America/Denver:20170525T170000
DTEND;TZID=America/Denver:20170525T183000
DTSTAMP:20260419T091329
CREATED:20170418T152216Z
LAST-MODIFIED:20170418T152216Z
UID:509-1495731600-1495737000@www.fcstars.org
SUMMARY:16U Bode - practice
DESCRIPTION:practice
URL:http://www.fcstars.org/event/16u-bode-practice-14/
LOCATION:Stuart Case Park\, United States
CATEGORIES:16U Bode
GEO:37.09024;-95.712891
END:VEVENT
BEGIN:VEVENT
DTSTART;TZID=America/Denver:20170525T173000
DTEND;TZID=America/Denver:20170525T190000
DTSTAMP:20260419T091329
CREATED:20170418T145008Z
LAST-MODIFIED:20170418T145008Z
UID:460-1495733400-1495738800@www.fcstars.org
SUMMARY:14U Linder - league game
DESCRIPTION:FC Stars @ CO Synergy
URL:http://www.fcstars.org/event/14u-linder-league-game-7/
LOCATION:RTMS\, United States
CATEGORIES:14U Linder
GEO:37.09024;-95.712891
END:VEVENT
BEGIN:VEVENT
DTSTART;TZID=America/Denver:20170525T180000
DTEND;TZID=America/Denver:20170525T193000
DTSTAMP:20260419T091329
CREATED:20170501T150550Z
LAST-MODIFIED:20170501T150550Z
UID:559-1495735200-1495740600@www.fcstars.org
SUMMARY:Hoeven 14U Stars - league game
DESCRIPTION:Hoeven 14U Stars vs CO Kryptonite
URL:http://www.fcstars.org/event/hoeven-14u-stars-league-game-4/
LOCATION:PPI\, United States
CATEGORIES:14U Hoeven
GEO:37.09024;-95.712891
END:VEVENT
BEGIN:VEVENT
DTSTART;TZID=America/Denver:20170525T193000
DTEND;TZID=America/Denver:20170525T210000
DTSTAMP:20260419T091329
CREATED:20170501T150631Z
LAST-MODIFIED:20170501T150631Z
UID:562-1495740600-1495746000@www.fcstars.org
SUMMARY:Hoeven 14U Stars - league game
DESCRIPTION:Hoeven 14U Stars vs CO Intensity
URL:http://www.fcstars.org/event/hoeven-14u-stars-league-game-5/
LOCATION:PP1\, United States
CATEGORIES:14U Hoeven
GEO:37.09024;-95.712891
END:VEVENT
BEGIN:VEVENT
DTSTART;VALUE=DATE:20170527
DTEND;VALUE=DATE:20170530
DTSTAMP:20260419T091329
CREATED:20170222T230303Z
LAST-MODIFIED:20170222T230303Z
UID:212-1495843200-1496102399@www.fcstars.org
SUMMARY:16U Bode - USSSA Memorial Day Classic
DESCRIPTION:USSSA Memorial Day Classic at Brighton Sports Complex
URL:http://www.fcstars.org/event/16u-bode-usssa-memorial-day-classic/
LOCATION:Brighton Sports Complex\, 1111 Judicial Center Dr.\, Brighton\, CO\, 80601\, United States
CATEGORIES:16U Bode
GEO:39.9675934;-104.763785
X-APPLE-STRUCTURED-LOCATION;VALUE=URI;X-ADDRESS=Brighton Sports Complex 1111 Judicial Center Dr. Brighton CO 80601 United States;X-APPLE-RADIUS=500;X-TITLE=1111 Judicial Center Dr.:geo:-104.763785,39.9675934
END:VEVENT
BEGIN:VEVENT
DTSTART;TZID=America/Denver:20170530T170000
DTEND;TZID=America/Denver:20170530T190000
DTSTAMP:20260419T091329
CREATED:20170501T155349Z
LAST-MODIFIED:20170501T155349Z
UID:627-1496163600-1496170800@www.fcstars.org
SUMMARY:Bode 16U - practice
DESCRIPTION:Practice at Kinard Middle School 
URL:http://www.fcstars.org/event/bode-16u-practice-3/
CATEGORIES:16U Bode
END:VEVENT
BEGIN:VEVENT
DTSTART;TZID=America/Denver:20170531T180000
DTEND;TZID=America/Denver:20170531T193000
DTSTAMP:20260419T091329
CREATED:20170501T150712Z
LAST-MODIFIED:20170501T150712Z
UID:564-1496253600-1496259000@www.fcstars.org
SUMMARY:Hoeven 14U Stars - league game
DESCRIPTION:Hoeven 14U Stars @ Eklite X Bandits
URL:http://www.fcstars.org/event/hoeven-14u-stars-league-game-6/
LOCATION:SS #4\, United States
CATEGORIES:14U Hoeven
GEO:37.09024;-95.712891
END:VEVENT
BEGIN:VEVENT
DTSTART;TZID=America/Denver:20170531T180000
DTEND;TZID=America/Denver:20170531T193000
DTSTAMP:20260419T091329
CREATED:20170428T214540Z
LAST-MODIFIED:20170428T215045Z
UID:547-1496253600-1496259000@www.fcstars.org
SUMMARY:14U Linder - league game
DESCRIPTION:14U Linder Stars @ Elite X Bandits in Longmont\, CO 
URL:http://www.fcstars.org/event/14u-linder-league-game-16/
CATEGORIES:14U Linder
END:VEVENT
BEGIN:VEVENT
DTSTART;TZID=America/Denver:20170531T190000
DTEND;TZID=America/Denver:20170531T203000
DTSTAMP:20260419T091329
CREATED:20170501T153229Z
LAST-MODIFIED:20170501T153229Z
UID:598-1496257200-1496262600@www.fcstars.org
SUMMARY:Hoeven 12U Stars - league game
DESCRIPTION:Hoeven 12U Stars – league game vs Colorado Lightning
URL:http://www.fcstars.org/event/hoeven-12u-stars-league-game-9/
LOCATION:Barnes Sports Complex #10\, United States
GEO:37.09024;-95.712891
END:VEVENT
BEGIN:VEVENT
DTSTART;TZID=America/Denver:20170531T193000
DTEND;TZID=America/Denver:20170531T210000
DTSTAMP:20260419T091329
CREATED:20170428T214606Z
LAST-MODIFIED:20170428T214633Z
UID:549-1496259000-1496264400@www.fcstars.org
SUMMARY:14U Linder - league game
DESCRIPTION:14U Linder Stars @ Elite X Bandits in Longmont\, CO 
URL:http://www.fcstars.org/event/14u-linder-league-game-17/
CATEGORIES:14U Linder
END:VEVENT
BEGIN:VEVENT
DTSTART;TZID=America/Denver:20170531T201500
DTEND;TZID=America/Denver:20170531T213000
DTSTAMP:20260419T091329
CREATED:20170501T153316Z
LAST-MODIFIED:20170501T153316Z
UID:601-1496261700-1496266200@www.fcstars.org
SUMMARY:Hoeven 12U Stars - league game
DESCRIPTION:Hoeven 12U Stars vs Colorado Lightning (double header)
URL:http://www.fcstars.org/event/hoeven-12u-stars-league-game-10/
END:VEVENT
BEGIN:VEVENT
DTSTART;TZID=America/Denver:20170601T170000
DTEND;TZID=America/Denver:20170601T183000
DTSTAMP:20260419T091329
CREATED:20170418T152248Z
LAST-MODIFIED:20170418T152248Z
UID:512-1496336400-1496341800@www.fcstars.org
SUMMARY:16U Bode - practice
DESCRIPTION:practice
URL:http://www.fcstars.org/event/16u-bode-practice-15/
LOCATION:Stuart Case Park\, United States
CATEGORIES:16U Bode
GEO:37.09024;-95.712891
END:VEVENT
BEGIN:VEVENT
DTSTART;TZID=America/Denver:20170601T173000
DTEND;TZID=America/Denver:20170601T190000
DTSTAMP:20260419T091329
CREATED:20170501T150752Z
LAST-MODIFIED:20170501T150752Z
UID:566-1496338200-1496343600@www.fcstars.org
SUMMARY:Hoeven 14U Stars - league game
DESCRIPTION:Hoeven 14U Stars @ CO Intensity
URL:http://www.fcstars.org/event/hoeven-14u-stars-league-game-7/
LOCATION:BYSC #1\, United States
CATEGORIES:14U Hoeven
GEO:37.09024;-95.712891
END:VEVENT
BEGIN:VEVENT
DTSTART;TZID=America/Denver:20170601T190000
DTEND;TZID=America/Denver:20170601T203000
DTSTAMP:20260419T091329
CREATED:20170501T150829Z
LAST-MODIFIED:20170501T150829Z
UID:568-1496343600-1496349000@www.fcstars.org
SUMMARY:Hoeven 14U Stars - league game
DESCRIPTION:Hoeven 14U Stars @ CO Intensity
URL:http://www.fcstars.org/event/hoeven-14u-stars-league-game-8/
LOCATION:BYSC #1\, United States
CATEGORIES:14U Hoeven
GEO:37.09024;-95.712891
END:VEVENT
BEGIN:VEVENT
DTSTART;VALUE=DATE:20170603
DTEND;VALUE=DATE:20170605
DTSTAMP:20260419T091329
CREATED:20170501T154653Z
LAST-MODIFIED:20170501T154653Z
UID:616-1496448000-1496620799@www.fcstars.org
SUMMARY:Hoeven 12U Stars - Big Slam Tournament
DESCRIPTION:Hoeven 12U Stars – Big Slam Tournament in Greeley\, CO \nSaturday – pool games TBD \nSunday – bracket play TBD
URL:http://www.fcstars.org/event/hoeven-12u-stars-big-slam-tournament/
LOCATION:Greeley Youth Sports Complex\, Greeley\, CO\, 80634\, United States
GEO:40.3962637;-104.7871004
END:VEVENT
BEGIN:VEVENT
DTSTART;VALUE=DATE:20170603
DTEND;VALUE=DATE:20170605
DTSTAMP:20260419T091329
CREATED:20170323T170829Z
LAST-MODIFIED:20170323T170829Z
UID:435-1496448000-1496620799@www.fcstars.org
SUMMARY:14U - Linder -Big Slam Tournament
DESCRIPTION:
URL:http://www.fcstars.org/event/14u-linder-big-slam-tournament/
LOCATION:Greeley/Windsor\, CO\, United States
CATEGORIES:14U Linder
GEO:39.5500507;-105.7820674
END:VEVENT
BEGIN:VEVENT
DTSTART;VALUE=DATE:20170605
DTEND;VALUE=DATE:20170608
DTSTAMP:20260419T091329
CREATED:20170222T230733Z
LAST-MODIFIED:20170222T230733Z
UID:215-1496620800-1496879999@www.fcstars.org
SUMMARY:16U Bode - Mtn Magic Camp
DESCRIPTION:Mtn Magic Camp in Steamboat Springs\, CO
URL:http://www.fcstars.org/event/16u-bode-mtn-magic-camp/
LOCATION:Steamboat Springs\, Steamboat Springs\, CO\, United States
CATEGORIES:16U Bode
GEO:40.4849769;-106.8317158
END:VEVENT
BEGIN:VEVENT
DTSTART;TZID=America/Denver:20170605T173000
DTEND;TZID=America/Denver:20170605T190000
DTSTAMP:20260419T091329
CREATED:20170501T153508Z
LAST-MODIFIED:20170501T153508Z
UID:603-1496683800-1496689200@www.fcstars.org
SUMMARY:Hoeven 12U Stars - league game
DESCRIPTION:Hoeven 12U Stars @ Cheyenne Extreme
URL:http://www.fcstars.org/event/hoeven-12u-stars-league-game-11/
LOCATION:Cheyenne\, United States
GEO:37.09024;-95.712891
END:VEVENT
BEGIN:VEVENT
DTSTART;TZID=America/Denver:20170605T190000
DTEND;TZID=America/Denver:20170605T203000
DTSTAMP:20260419T091329
CREATED:20170501T153546Z
LAST-MODIFIED:20170501T153546Z
UID:605-1496689200-1496694600@www.fcstars.org
SUMMARY:Hoeven 12U Stars - league game
DESCRIPTION:Hoeven 12U Stars @ Cheyenne Extreme
URL:http://www.fcstars.org/event/hoeven-12u-stars-league-game-12/
LOCATION:Cheyenne\, United States
GEO:37.09024;-95.712891
END:VEVENT
BEGIN:VEVENT
DTSTART;TZID=America/Denver:20170606T160000
DTEND;TZID=America/Denver:20170606T173000
DTSTAMP:20260419T091329
CREATED:20170418T145134Z
LAST-MODIFIED:20170418T145134Z
UID:465-1496764800-1496770200@www.fcstars.org
SUMMARY:14U Linder - league game
DESCRIPTION:CO Kryptonite @ FC Stars
URL:http://www.fcstars.org/event/14u-linder-league-game-9/
LOCATION:Cottonwood\, 3074 S Overland Trail\, Fort Collins\, CO\, 80526\, United States
CATEGORIES:14U Linder
GEO:40.5456179;-105.1314988
X-APPLE-STRUCTURED-LOCATION;VALUE=URI;X-ADDRESS=Cottonwood 3074 S Overland Trail Fort Collins CO 80526 United States;X-APPLE-RADIUS=500;X-TITLE=3074 S Overland Trail:geo:-105.1314988,40.5456179
END:VEVENT
BEGIN:VEVENT
DTSTART;TZID=America/Denver:20170606T173000
DTEND;TZID=America/Denver:20170606T190000
DTSTAMP:20260419T091329
CREATED:20170418T145207Z
LAST-MODIFIED:20170418T145207Z
UID:467-1496770200-1496775600@www.fcstars.org
SUMMARY:14U Linder - league game
DESCRIPTION:CO Kryptonite @ FC Stars
URL:http://www.fcstars.org/event/14u-linder-league-game-10/
LOCATION:Cottonwood\, 3074 S Overland Trail\, Fort Collins\, CO\, 80526\, United States
CATEGORIES:14U Linder
GEO:40.5456179;-105.1314988
X-APPLE-STRUCTURED-LOCATION;VALUE=URI;X-ADDRESS=Cottonwood 3074 S Overland Trail Fort Collins CO 80526 United States;X-APPLE-RADIUS=500;X-TITLE=3074 S Overland Trail:geo:-105.1314988,40.5456179
END:VEVENT
BEGIN:VEVENT
DTSTART;TZID=America/Denver:20170606T180000
DTEND;TZID=America/Denver:20170606T193000
DTSTAMP:20260419T091329
CREATED:20170501T153619Z
LAST-MODIFIED:20170501T153619Z
UID:607-1496772000-1496777400@www.fcstars.org
SUMMARY:Hoeven 12U Stars - league game
DESCRIPTION:Hoeven 12U Stars vs ProSwing
URL:http://www.fcstars.org/event/hoeven-12u-stars-league-game-13/
END:VEVENT
BEGIN:VEVENT
DTSTART;VALUE=DATE:20170608
DTEND;VALUE=DATE:20170611
DTSTAMP:20260419T091329
CREATED:20170222T231019Z
LAST-MODIFIED:20170222T231019Z
UID:218-1496880000-1497139199@www.fcstars.org
SUMMARY:16U Bode - TC - Mountain Magic
DESCRIPTION:TC – Mountain Magic Tournament in Steamboat Springs\, CO
URL:http://www.fcstars.org/event/16u-bode-tc-mountain-magic/
LOCATION:Steamboat Springs\, Steamboat Springs\, CO\, United States
CATEGORIES:16U Bode
GEO:40.4849769;-106.8317158
END:VEVENT
BEGIN:VEVENT
DTSTART;TZID=America/Denver:20170608T180000
DTEND;TZID=America/Denver:20170608T193000
DTSTAMP:20260419T091329
CREATED:20170418T145243Z
LAST-MODIFIED:20170418T145243Z
UID:469-1496944800-1496950200@www.fcstars.org
SUMMARY:14U Linder - league game
DESCRIPTION:FC Stars @ CO Intensity
URL:http://www.fcstars.org/event/14u-linder-league-game-11/
LOCATION:BYSC #1\, United States
CATEGORIES:14U Linder
GEO:37.09024;-95.712891
END:VEVENT
END:VCALENDAR