BEGIN:VCALENDAR
VERSION:2.0
PRODID:-//Fort Collins Stars - ECPv6.3.3.1//NONSGML v1.0//EN
CALSCALE:GREGORIAN
METHOD:PUBLISH
X-WR-CALNAME:Fort Collins Stars
X-ORIGINAL-URL:http://www.fcstars.org
X-WR-CALDESC:Events for Fort Collins Stars
REFRESH-INTERVAL;VALUE=DURATION:PT1H
X-Robots-Tag:noindex
X-PUBLISHED-TTL:PT1H
BEGIN:VTIMEZONE
TZID:America/Denver
BEGIN:DAYLIGHT
TZOFFSETFROM:-0700
TZOFFSETTO:-0600
TZNAME:MDT
DTSTART:20170312T090000
END:DAYLIGHT
BEGIN:STANDARD
TZOFFSETFROM:-0600
TZOFFSETTO:-0700
TZNAME:MST
DTSTART:20171105T080000
END:STANDARD
END:VTIMEZONE
BEGIN:VEVENT
DTSTART;TZID=America/Denver:20170226T190000
DTEND;TZID=America/Denver:20170226T210000
DTSTAMP:20260419T101122
CREATED:20170221T235627Z
LAST-MODIFIED:20170222T160601Z
UID:187-1488135600-1488142800@www.fcstars.org
SUMMARY:16U Bode - Practice
DESCRIPTION:Practice at Choice
URL:http://www.fcstars.org/event/16u-bode-practice/2017-02-26/
LOCATION:Choice\, 7850 S Co Rd 5\, Windsor\, CO\, 80528\, United States
CATEGORIES:16U Bode
GEO:40.474947;-104.9816589
X-APPLE-STRUCTURED-LOCATION;VALUE=URI;X-ADDRESS=Choice 7850 S Co Rd 5 Windsor CO 80528 United States;X-APPLE-RADIUS=500;X-TITLE=7850 S Co Rd 5:geo:-104.9816589,40.474947
END:VEVENT
BEGIN:VEVENT
DTSTART;TZID=America/Denver:20170228T180000
DTEND;TZID=America/Denver:20170228T190000
DTSTAMP:20260419T101122
CREATED:20170222T000534Z
LAST-MODIFIED:20170222T224126Z
UID:190-1488304800-1488308400@www.fcstars.org
SUMMARY:16U Bode - Practice
DESCRIPTION:Practice at Choice
URL:http://www.fcstars.org/event/16u-bode-practice-2/2017-02-28/
LOCATION:Choice\, 7850 S Co Rd 5\, Windsor\, CO\, 80528\, United States
CATEGORIES:16U Bode
GEO:40.474947;-104.9816589
X-APPLE-STRUCTURED-LOCATION;VALUE=URI;X-ADDRESS=Choice 7850 S Co Rd 5 Windsor CO 80528 United States;X-APPLE-RADIUS=500;X-TITLE=7850 S Co Rd 5:geo:-104.9816589,40.474947
END:VEVENT
BEGIN:VEVENT
DTSTART;VALUE=DATE:20170304
DTEND;VALUE=DATE:20170306
DTSTAMP:20260419T101122
CREATED:20170222T001013Z
LAST-MODIFIED:20170222T001247Z
UID:192-1488585600-1488758399@www.fcstars.org
SUMMARY:16U Bode - Newbie - Greeley Tournament
DESCRIPTION:Newbie – Greeley Tournament
URL:http://www.fcstars.org/event/16u-bode-newbie-greeley-tournament/
LOCATION:Greeley Youth Sports Complex\, Greeley\, CO\, 80634\, United States
CATEGORIES:16U Bode
GEO:40.3962637;-104.7871004
END:VEVENT
BEGIN:VEVENT
DTSTART;VALUE=DATE:20170401
DTEND;VALUE=DATE:20170403
DTSTAMP:20260419T101122
CREATED:20170222T224526Z
LAST-MODIFIED:20170222T224526Z
UID:203-1491004800-1491177599@www.fcstars.org
SUMMARY:16U Bode - High Altitude Tournament
DESCRIPTION:High Altitude Tournament at Stazio – Boulder
URL:http://www.fcstars.org/event/16u-bode-high-altitude-tournament/
LOCATION:Stazio – Boulder\, 2445 Stazio Dr.\, Boulder\, CO\, 80301\, United States
CATEGORIES:16U Bode
GEO:40.023227;-105.212716
X-APPLE-STRUCTURED-LOCATION;VALUE=URI;X-ADDRESS=Stazio – Boulder 2445 Stazio Dr. Boulder CO 80301 United States;X-APPLE-RADIUS=500;X-TITLE=2445 Stazio Dr.:geo:-105.212716,40.023227
END:VEVENT
BEGIN:VEVENT
DTSTART;TZID=America/Denver:20170418T183000
DTEND;TZID=America/Denver:20170418T200000
DTSTAMP:20260419T101122
CREATED:20170418T151011Z
LAST-MODIFIED:20170418T151011Z
UID:482-1492540200-1492545600@www.fcstars.org
SUMMARY:16U Bode - practice
DESCRIPTION:Practice
URL:http://www.fcstars.org/event/16u-bode-practice-3/
LOCATION:Harmony West\, United States
CATEGORIES:16U Bode
GEO:37.09024;-95.712891
END:VEVENT
BEGIN:VEVENT
DTSTART;TZID=America/Denver:20170420T183000
DTEND;TZID=America/Denver:20170420T200000
DTSTAMP:20260419T101122
CREATED:20170418T151039Z
LAST-MODIFIED:20170418T151039Z
UID:485-1492713000-1492718400@www.fcstars.org
SUMMARY:16U Bode - practice
DESCRIPTION:Practice
URL:http://www.fcstars.org/event/16u-bode-practice-4/
LOCATION:Harmony West\, United States
CATEGORIES:16U Bode
GEO:37.09024;-95.712891
END:VEVENT
BEGIN:VEVENT
DTSTART;VALUE=DATE:20170422
DTEND;VALUE=DATE:20170424
DTSTAMP:20260419T101122
CREATED:20170222T225036Z
LAST-MODIFIED:20170222T225036Z
UID:206-1492819200-1492991999@www.fcstars.org
SUMMARY:16U Bode - Blaze Invitational - 16U Open
DESCRIPTION:Blaze Invitational – 16U Open at Louisville Sports Complex
URL:http://www.fcstars.org/event/16u-bode-blaze-invitational-16u-open/
LOCATION:Louisville Sports Complex\, 1200 Courtesy Rd.\, Louisville\, CO\, 80027\, United States
CATEGORIES:16U Bode
GEO:39.9818946;-105.1243254
X-APPLE-STRUCTURED-LOCATION;VALUE=URI;X-ADDRESS=Louisville Sports Complex 1200 Courtesy Rd. Louisville CO 80027 United States;X-APPLE-RADIUS=500;X-TITLE=1200 Courtesy Rd.:geo:-105.1243254,39.9818946
END:VEVENT
BEGIN:VEVENT
DTSTART;TZID=America/Denver:20170425T170000
DTEND;TZID=America/Denver:20170425T183000
DTSTAMP:20260419T101122
CREATED:20170418T151744Z
LAST-MODIFIED:20170418T151744Z
UID:489-1493139600-1493145000@www.fcstars.org
SUMMARY:16U Bode - practice
DESCRIPTION:practice 
URL:http://www.fcstars.org/event/16u-bode-practice-5/
LOCATION:Harmony East\, United States
CATEGORIES:16U Bode
GEO:37.09024;-95.712891
END:VEVENT
BEGIN:VEVENT
DTSTART;TZID=America/Denver:20170427T183000
DTEND;TZID=America/Denver:20170427T200000
DTSTAMP:20260419T101122
CREATED:20170418T151813Z
LAST-MODIFIED:20170418T151813Z
UID:492-1493317800-1493323200@www.fcstars.org
SUMMARY:16U Bode - practice
DESCRIPTION:practice
URL:http://www.fcstars.org/event/16u-bode-practice-6/
LOCATION:Harmony West\, United States
CATEGORIES:16U Bode
GEO:37.09024;-95.712891
END:VEVENT
BEGIN:VEVENT
DTSTART;TZID=America/Denver:20170430T140000
DTEND;TZID=America/Denver:20170430T180000
DTSTAMP:20260419T101122
CREATED:20170428T211207Z
LAST-MODIFIED:20170428T211207Z
UID:537-1493560800-1493575200@www.fcstars.org
SUMMARY:14U Hoeven - friendly
DESCRIPTION:Join 14U Hoeven Stars\, 16U Bode Stars\, 14U Wildcats and 14U Panic for a friendly today at Beattie park!
URL:http://www.fcstars.org/event/14u-hoeven-friendly/
CATEGORIES:14U Hoeven,16U Bode
END:VEVENT
BEGIN:VEVENT
DTSTART;TZID=America/Denver:20170502T170000
DTEND;TZID=America/Denver:20170502T183000
DTSTAMP:20260419T101122
CREATED:20170418T151847Z
LAST-MODIFIED:20170418T151847Z
UID:494-1493744400-1493749800@www.fcstars.org
SUMMARY:16U Bode - practice
DESCRIPTION:practice
URL:http://www.fcstars.org/event/16u-bode-practice-7/
LOCATION:Harmony East\, United States
CATEGORIES:16U Bode
GEO:37.09024;-95.712891
END:VEVENT
BEGIN:VEVENT
DTSTART;TZID=America/Denver:20170504T183000
DTEND;TZID=America/Denver:20170504T200000
DTSTAMP:20260419T101122
CREATED:20170418T151915Z
LAST-MODIFIED:20170418T151915Z
UID:496-1493922600-1493928000@www.fcstars.org
SUMMARY:16U Bode - practice
DESCRIPTION:practice
URL:http://www.fcstars.org/event/16u-bode-practice-8/
LOCATION:Harmony West\, United States
CATEGORIES:16U Bode
GEO:37.09024;-95.712891
END:VEVENT
BEGIN:VEVENT
DTSTART;TZID=America/Denver:20170509T170000
DTEND;TZID=America/Denver:20170509T183000
DTSTAMP:20260419T101122
CREATED:20170418T151944Z
LAST-MODIFIED:20170418T151944Z
UID:498-1494349200-1494354600@www.fcstars.org
SUMMARY:16U Bode - practice
DESCRIPTION:practice
URL:http://www.fcstars.org/event/16u-bode-practice-9/
LOCATION:Harmony East\, United States
CATEGORIES:16U Bode
GEO:37.09024;-95.712891
END:VEVENT
BEGIN:VEVENT
DTSTART;TZID=America/Denver:20170511T183000
DTEND;TZID=America/Denver:20170511T200000
DTSTAMP:20260419T101122
CREATED:20170418T152010Z
LAST-MODIFIED:20170418T152010Z
UID:500-1494527400-1494532800@www.fcstars.org
SUMMARY:16U Bode - practice
DESCRIPTION:practice
URL:http://www.fcstars.org/event/16u-bode-practice-10/
LOCATION:Harmony West\, United States
CATEGORIES:16U Bode
GEO:37.09024;-95.712891
END:VEVENT
BEGIN:VEVENT
DTSTART;VALUE=DATE:20170513
DTEND;VALUE=DATE:20170515
DTSTAMP:20260419T101122
CREATED:20170222T225956Z
LAST-MODIFIED:20170222T225956Z
UID:209-1494633600-1494806399@www.fcstars.org
SUMMARY:16U Bode - TC - Spring Stampede
DESCRIPTION:TC – Spring Stampede in Northern Colorado
URL:http://www.fcstars.org/event/16u-bode-tc-spring-stampede/
LOCATION:Northern Colorado\, CO\, United States
CATEGORIES:16U Bode
GEO:39.5500507;-105.7820674
END:VEVENT
BEGIN:VEVENT
DTSTART;TZID=America/Denver:20170516T183000
DTEND;TZID=America/Denver:20170516T200000
DTSTAMP:20260419T101122
CREATED:20170418T152042Z
LAST-MODIFIED:20170418T152042Z
UID:502-1494959400-1494964800@www.fcstars.org
SUMMARY:16U Bode - practice
DESCRIPTION:practice
URL:http://www.fcstars.org/event/16u-bode-practice-11/
LOCATION:Harmony East\, United States
CATEGORIES:16U Bode
GEO:37.09024;-95.712891
END:VEVENT
BEGIN:VEVENT
DTSTART;TZID=America/Denver:20170518T183000
DTEND;TZID=America/Denver:20170518T200000
DTSTAMP:20260419T101122
CREATED:20170418T152112Z
LAST-MODIFIED:20170418T152112Z
UID:504-1495132200-1495137600@www.fcstars.org
SUMMARY:16U Bode - practice
DESCRIPTION:practice
URL:http://www.fcstars.org/event/16u-bode-practice-12/
LOCATION:Harmony West\, United States
CATEGORIES:16U Bode
GEO:37.09024;-95.712891
END:VEVENT
BEGIN:VEVENT
DTSTART;TZID=America/Denver:20170523T170000
DTEND;TZID=America/Denver:20170523T183000
DTSTAMP:20260419T101122
CREATED:20170418T152146Z
LAST-MODIFIED:20170418T152146Z
UID:506-1495558800-1495564200@www.fcstars.org
SUMMARY:16U Bode - practice
DESCRIPTION:practice
URL:http://www.fcstars.org/event/16u-bode-practice-13/
LOCATION:kruse elementary\, United States
CATEGORIES:16U Bode
GEO:37.09024;-95.712891
END:VEVENT
BEGIN:VEVENT
DTSTART;TZID=America/Denver:20170525T170000
DTEND;TZID=America/Denver:20170525T183000
DTSTAMP:20260419T101122
CREATED:20170418T152216Z
LAST-MODIFIED:20170418T152216Z
UID:509-1495731600-1495737000@www.fcstars.org
SUMMARY:16U Bode - practice
DESCRIPTION:practice
URL:http://www.fcstars.org/event/16u-bode-practice-14/
LOCATION:Stuart Case Park\, United States
CATEGORIES:16U Bode
GEO:37.09024;-95.712891
END:VEVENT
BEGIN:VEVENT
DTSTART;VALUE=DATE:20170527
DTEND;VALUE=DATE:20170530
DTSTAMP:20260419T101122
CREATED:20170222T230303Z
LAST-MODIFIED:20170222T230303Z
UID:212-1495843200-1496102399@www.fcstars.org
SUMMARY:16U Bode - USSSA Memorial Day Classic
DESCRIPTION:USSSA Memorial Day Classic at Brighton Sports Complex
URL:http://www.fcstars.org/event/16u-bode-usssa-memorial-day-classic/
LOCATION:Brighton Sports Complex\, 1111 Judicial Center Dr.\, Brighton\, CO\, 80601\, United States
CATEGORIES:16U Bode
GEO:39.9675934;-104.763785
X-APPLE-STRUCTURED-LOCATION;VALUE=URI;X-ADDRESS=Brighton Sports Complex 1111 Judicial Center Dr. Brighton CO 80601 United States;X-APPLE-RADIUS=500;X-TITLE=1111 Judicial Center Dr.:geo:-104.763785,39.9675934
END:VEVENT
BEGIN:VEVENT
DTSTART;TZID=America/Denver:20170530T170000
DTEND;TZID=America/Denver:20170530T190000
DTSTAMP:20260419T101122
CREATED:20170501T155349Z
LAST-MODIFIED:20170501T155349Z
UID:627-1496163600-1496170800@www.fcstars.org
SUMMARY:Bode 16U - practice
DESCRIPTION:Practice at Kinard Middle School 
URL:http://www.fcstars.org/event/bode-16u-practice-3/
CATEGORIES:16U Bode
END:VEVENT
BEGIN:VEVENT
DTSTART;TZID=America/Denver:20170601T170000
DTEND;TZID=America/Denver:20170601T183000
DTSTAMP:20260419T101122
CREATED:20170418T152248Z
LAST-MODIFIED:20170418T152248Z
UID:512-1496336400-1496341800@www.fcstars.org
SUMMARY:16U Bode - practice
DESCRIPTION:practice
URL:http://www.fcstars.org/event/16u-bode-practice-15/
LOCATION:Stuart Case Park\, United States
CATEGORIES:16U Bode
GEO:37.09024;-95.712891
END:VEVENT
BEGIN:VEVENT
DTSTART;VALUE=DATE:20170605
DTEND;VALUE=DATE:20170608
DTSTAMP:20260419T101122
CREATED:20170222T230733Z
LAST-MODIFIED:20170222T230733Z
UID:215-1496620800-1496879999@www.fcstars.org
SUMMARY:16U Bode - Mtn Magic Camp
DESCRIPTION:Mtn Magic Camp in Steamboat Springs\, CO
URL:http://www.fcstars.org/event/16u-bode-mtn-magic-camp/
LOCATION:Steamboat Springs\, Steamboat Springs\, CO\, United States
CATEGORIES:16U Bode
GEO:40.4849769;-106.8317158
END:VEVENT
BEGIN:VEVENT
DTSTART;VALUE=DATE:20170608
DTEND;VALUE=DATE:20170611
DTSTAMP:20260419T101122
CREATED:20170222T231019Z
LAST-MODIFIED:20170222T231019Z
UID:218-1496880000-1497139199@www.fcstars.org
SUMMARY:16U Bode - TC - Mountain Magic
DESCRIPTION:TC – Mountain Magic Tournament in Steamboat Springs\, CO
URL:http://www.fcstars.org/event/16u-bode-tc-mountain-magic/
LOCATION:Steamboat Springs\, Steamboat Springs\, CO\, United States
CATEGORIES:16U Bode
GEO:40.4849769;-106.8317158
END:VEVENT
BEGIN:VEVENT
DTSTART;TZID=America/Denver:20170613T170000
DTEND;TZID=America/Denver:20170613T190000
DTSTAMP:20260419T101122
CREATED:20170501T155320Z
LAST-MODIFIED:20170501T155320Z
UID:625-1497373200-1497380400@www.fcstars.org
SUMMARY:Bode 16U - practice
DESCRIPTION:Practice at Kinard middle School
URL:http://www.fcstars.org/event/bode-16u-practice-2/
CATEGORIES:16U Bode
END:VEVENT
BEGIN:VEVENT
DTSTART;TZID=America/Denver:20170615T183000
DTEND;TZID=America/Denver:20170615T200000
DTSTAMP:20260419T101122
CREATED:20170418T152325Z
LAST-MODIFIED:20170418T152325Z
UID:514-1497551400-1497556800@www.fcstars.org
SUMMARY:16U Bode - practice
DESCRIPTION:practice
URL:http://www.fcstars.org/event/16u-bode-practice-16/
LOCATION:English Ranch Park\, United States
CATEGORIES:16U Bode
GEO:37.09024;-95.712891
END:VEVENT
BEGIN:VEVENT
DTSTART;VALUE=DATE:20170616
DTEND;VALUE=DATE:20170619
DTSTAMP:20260419T101122
CREATED:20170222T231307Z
LAST-MODIFIED:20170222T231307Z
UID:220-1497571200-1497830399@www.fcstars.org
SUMMARY:16U Bode - TC State Championships - 16U
DESCRIPTION:TC State Championships – 16U at Aurora Sports Park
URL:http://www.fcstars.org/event/16u-bode-tc-state-championships-16u/
LOCATION:Aurora Sports Park\, 19300 E Colfax Ave.\, Aurora\, CO\, 80011\, United States
CATEGORIES:16U Bode
GEO:39.7370931;-104.7588629
X-APPLE-STRUCTURED-LOCATION;VALUE=URI;X-ADDRESS=Aurora Sports Park 19300 E Colfax Ave. Aurora CO 80011 United States;X-APPLE-RADIUS=500;X-TITLE=19300 E Colfax Ave.:geo:-104.7588629,39.7370931
END:VEVENT
BEGIN:VEVENT
DTSTART;TZID=America/Denver:20170620T170000
DTEND;TZID=America/Denver:20170620T190000
DTSTAMP:20260419T101122
CREATED:20170501T155247Z
LAST-MODIFIED:20170501T155247Z
UID:623-1497978000-1497985200@www.fcstars.org
SUMMARY:Bode 16U - practice
DESCRIPTION:Kinard Middle School East field
URL:http://www.fcstars.org/event/bode-16u-practice/
CATEGORIES:16U Bode
END:VEVENT
BEGIN:VEVENT
DTSTART;TZID=America/Denver:20170622T183000
DTEND;TZID=America/Denver:20170622T200000
DTSTAMP:20260419T101122
CREATED:20170418T152354Z
LAST-MODIFIED:20170418T152354Z
UID:517-1498156200-1498161600@www.fcstars.org
SUMMARY:16U Bode - practice
DESCRIPTION:practice
URL:http://www.fcstars.org/event/16u-bode-practice-17/
LOCATION:English Ranch Park\, United States
CATEGORIES:16U Bode
GEO:37.09024;-95.712891
END:VEVENT
BEGIN:VEVENT
DTSTART;VALUE=DATE:20170624
DTEND;VALUE=DATE:20170626
DTSTAMP:20260419T101122
CREATED:20170222T231526Z
LAST-MODIFIED:20170222T231526Z
UID:223-1498262400-1498435199@www.fcstars.org
SUMMARY:16U Bode - RM Stars & Stripes Elite Select - 18 Open
DESCRIPTION:RM Stars & Stripes Elite Select – 18 Open at Brighton Sports Complex
URL:http://www.fcstars.org/event/16u-bode-rm-stars-stripes-elite-select-18-open/
LOCATION:Brighton Sports Complex\, 1111 Judicial Center Dr.\, Brighton\, CO\, 80601\, United States
CATEGORIES:16U Bode
GEO:39.9675934;-104.763785
X-APPLE-STRUCTURED-LOCATION;VALUE=URI;X-ADDRESS=Brighton Sports Complex 1111 Judicial Center Dr. Brighton CO 80601 United States;X-APPLE-RADIUS=500;X-TITLE=1111 Judicial Center Dr.:geo:-104.763785,39.9675934
END:VEVENT
END:VCALENDAR